BEGIN:VCALENDAR
VERSION:2.0
BEGIN:VEVENT
DTSTART:20261124T190000
DTEND:20261124T210000
SUMMARY:„Moderne Brokerage-Plattformen und ihre Rolle in der Altersvorsorge“
LOCATION:Lotto Kantine Bayern, Theresienhöhe 11, 80339 München
DESCRIPTION:Warum Neobroker den Markt revolutionieren – und wie Anleger davon langfristig in ihrer Altersvorsorge profitieren können.
END:VEVENT
END:VCALENDAR
